BEGIN:VCALENDAR
VERSION:2.0
PRODID:-//United Games Inc. - ECPv6.15.20//NONSGML v1.0//EN
CALSCALE:GREGORIAN
METHOD:PUBLISH
X-WR-CALNAME:United Games Inc.
X-ORIGINAL-URL:https://unitedgamesinc.com
X-WR-CALDESC:Events for United Games Inc.
REFRESH-INTERVAL;VALUE=DURATION:PT1H
X-Robots-Tag:noindex
X-PUBLISHED-TTL:PT1H
BEGIN:VTIMEZONE
TZID:America/North_Dakota/New_Salem
BEGIN:DAYLIGHT
TZOFFSETFROM:-0600
TZOFFSETTO:-0500
TZNAME:CDT
DTSTART:20250309T080000
END:DAYLIGHT
BEGIN:STANDARD
TZOFFSETFROM:-0500
TZOFFSETTO:-0600
TZNAME:CST
DTSTART:20251102T070000
END:STANDARD
BEGIN:DAYLIGHT
TZOFFSETFROM:-0600
TZOFFSETTO:-0500
TZNAME:CDT
DTSTART:20260308T080000
END:DAYLIGHT
BEGIN:STANDARD
TZOFFSETFROM:-0500
TZOFFSETTO:-0600
TZNAME:CST
DTSTART:20261101T070000
END:STANDARD
BEGIN:DAYLIGHT
TZOFFSETFROM:-0600
TZOFFSETTO:-0500
TZNAME:CDT
DTSTART:20270314T080000
END:DAYLIGHT
BEGIN:STANDARD
TZOFFSETFROM:-0500
TZOFFSETTO:-0600
TZNAME:CST
DTSTART:20271107T070000
END:STANDARD
END:VTIMEZONE
BEGIN:VEVENT
DTSTART;TZID=America/North_Dakota/New_Salem:20260325T190000
DTEND;TZID=America/North_Dakota/New_Salem:20260325T223000
DTSTAMP:20260421T224145
CREATED:20260211T165850Z
LAST-MODIFIED:20260320T020629Z
UID:33544-1774465200-1774477800@unitedgamesinc.com
SUMMARY:Wtn Wednesday Spring 501 Doubles Dart League Starts March 25th!
DESCRIPTION:
URL:https://unitedgamesinc.com/event/wtn-wednesday-spring-501-doubles-dart-start-march-25th/
LOCATION:Shooter’s Bar\, 6 N Maple\, Watertown\, SD\, 57201\, United States
CATEGORIES:Darts
END:VEVENT
END:VCALENDAR