BEGIN:VCALENDAR
VERSION:2.0
PRODID:-//United Games Inc. - ECPv6.15.20//NONSGML v1.0//EN
CALSCALE:GREGORIAN
METHOD:PUBLISH
X-WR-CALNAME:United Games Inc.
X-ORIGINAL-URL:https://unitedgamesinc.com
X-WR-CALDESC:Events for United Games Inc.
REFRESH-INTERVAL;VALUE=DURATION:PT1H
X-Robots-Tag:noindex
X-PUBLISHED-TTL:PT1H
BEGIN:VTIMEZONE
TZID:America/North_Dakota/New_Salem
BEGIN:DAYLIGHT
TZOFFSETFROM:-0600
TZOFFSETTO:-0500
TZNAME:CDT
DTSTART:20240310T080000
END:DAYLIGHT
BEGIN:STANDARD
TZOFFSETFROM:-0500
TZOFFSETTO:-0600
TZNAME:CST
DTSTART:20241103T070000
END:STANDARD
BEGIN:DAYLIGHT
TZOFFSETFROM:-0600
TZOFFSETTO:-0500
TZNAME:CDT
DTSTART:20250309T080000
END:DAYLIGHT
BEGIN:STANDARD
TZOFFSETFROM:-0500
TZOFFSETTO:-0600
TZNAME:CST
DTSTART:20251102T070000
END:STANDARD
BEGIN:DAYLIGHT
TZOFFSETFROM:-0600
TZOFFSETTO:-0500
TZNAME:CDT
DTSTART:20260308T080000
END:DAYLIGHT
BEGIN:STANDARD
TZOFFSETFROM:-0500
TZOFFSETTO:-0600
TZNAME:CST
DTSTART:20261101T070000
END:STANDARD
END:VTIMEZONE
BEGIN:VEVENT
DTSTART;VALUE=DATE:20251003
DTEND;VALUE=DATE:20251006
DTSTAMP:20260422T025310
CREATED:20250623T205337Z
LAST-MODIFIED:20250729T195609Z
UID:31079-1759449600-1759708799@unitedgamesinc.com
SUMMARY:2025 SD State Pink Ladies Dart Tournament
DESCRIPTION:Sign up deadline Friday August 29\,2025.\nqualifying games period is October 14\, 2024-September 2 2025\n6 weeks AND a minimum of 30 games played in a Pink Ladies league only needed to qualify for this tournament\nThe sign ups will be picked up on Friday August 29th by 4pm! 
URL:https://unitedgamesinc.com/event/2025-sd-state-pink-ladies-dart-tournament/
LOCATION:Dakotah Bank Center\, 824 32nd Ave\, Brookings\, 57006\, United States
CATEGORIES:Dart Tournaments,Darts,Pink Ladies
END:VEVENT
BEGIN:VEVENT
DTSTART;TZID=America/North_Dakota/New_Salem:20251011T120000
DTEND;TZID=America/North_Dakota/New_Salem:20251011T233000
DTSTAMP:20260422T025310
CREATED:20251007T211659Z
LAST-MODIFIED:20251007T211659Z
UID:32170-1760184000-1760225400@unitedgamesinc.com
SUMMARY:Milbank Pink Ladies Dart Tournament
DESCRIPTION:come support your pink ladies!
URL:https://unitedgamesinc.com/event/milbank-pink-ladies-dart-tournament/
LOCATION:Milbank VFW\, 205 S 3rd St\, Milbank\, SD\, 57252\, United States
CATEGORIES:Dart Tournaments,Darts,Pink Ladies
END:VEVENT
BEGIN:VEVENT
DTSTART;TZID=America/North_Dakota/New_Salem:20251018T120000
DTEND;TZID=America/North_Dakota/New_Salem:20251018T233000
DTSTAMP:20260422T025310
CREATED:20251007T212534Z
LAST-MODIFIED:20251007T212534Z
UID:32172-1760788800-1760830200@unitedgamesinc.com
SUMMARY:Watertown Pink Ladies Dart Tournament
DESCRIPTION:come support your pink ladies!
URL:https://unitedgamesinc.com/event/watertown-pink-ladies-dart-tournament-3/
LOCATION:Watertown American Legion Codington County Post 17\, 1412 9th Ave SW #5091\, Watertown\, SD\, 57201\, United States
CATEGORIES:Dart Tournaments,Darts,Pink Ladies
END:VEVENT
BEGIN:VEVENT
DTSTART;TZID=America/North_Dakota/New_Salem:20251018T120000
DTEND;TZID=America/North_Dakota/New_Salem:20251018T233000
DTSTAMP:20260422T025310
CREATED:20251007T212950Z
LAST-MODIFIED:20251007T212950Z
UID:32174-1760788800-1760830200@unitedgamesinc.com
SUMMARY:Jessie Phillips Benefit Dart Tournament
DESCRIPTION:come show your support for a fellow dart player!
URL:https://unitedgamesinc.com/event/jessie-phillips-benefit-dart-tournament/
LOCATION:The Pump 2.0\, 205 S Main St\, Milbank\, SD\, 57252\, United States
CATEGORIES:Dart Tournaments,Darts
END:VEVENT
BEGIN:VEVENT
DTSTART;TZID=America/North_Dakota/New_Salem:20251025T120000
DTEND;TZID=America/North_Dakota/New_Salem:20251025T233000
DTSTAMP:20260422T025310
CREATED:20251007T213242Z
LAST-MODIFIED:20251007T213242Z
UID:32176-1761393600-1761435000@unitedgamesinc.com
SUMMARY:Beacon Center Fundraiser Dart Tournament
DESCRIPTION:Beacon Center Fundraiser
URL:https://unitedgamesinc.com/event/beacon-center-fundraiser-dart-tournament/
LOCATION:Woody’s Bar\, 1612 9th Ave SW\, Watertown\, SD\, 57201\, United States
CATEGORIES:Dart Tournaments,Darts
END:VEVENT
END:VCALENDAR