BEGIN:VCALENDAR
VERSION:2.0
PRODID:-//United Games Inc. - ECPv6.15.20//NONSGML v1.0//EN
CALSCALE:GREGORIAN
METHOD:PUBLISH
X-ORIGINAL-URL:https://unitedgamesinc.com
X-WR-CALDESC:Events for United Games Inc.
REFRESH-INTERVAL;VALUE=DURATION:PT1H
X-Robots-Tag:noindex
X-PUBLISHED-TTL:PT1H
BEGIN:VTIMEZONE
TZID:America/North_Dakota/New_Salem
BEGIN:DAYLIGHT
TZOFFSETFROM:-0600
TZOFFSETTO:-0500
TZNAME:CDT
DTSTART:20250309T080000
END:DAYLIGHT
BEGIN:STANDARD
TZOFFSETFROM:-0500
TZOFFSETTO:-0600
TZNAME:CST
DTSTART:20251102T070000
END:STANDARD
BEGIN:DAYLIGHT
TZOFFSETFROM:-0600
TZOFFSETTO:-0500
TZNAME:CDT
DTSTART:20260308T080000
END:DAYLIGHT
BEGIN:STANDARD
TZOFFSETFROM:-0500
TZOFFSETTO:-0600
TZNAME:CST
DTSTART:20261101T070000
END:STANDARD
BEGIN:DAYLIGHT
TZOFFSETFROM:-0600
TZOFFSETTO:-0500
TZNAME:CDT
DTSTART:20270314T080000
END:DAYLIGHT
BEGIN:STANDARD
TZOFFSETFROM:-0500
TZOFFSETTO:-0600
TZNAME:CST
DTSTART:20271107T070000
END:STANDARD
END:VTIMEZONE
BEGIN:VEVENT
DTSTART;TZID=America/North_Dakota/New_Salem:20260314T120000
DTEND;TZID=America/North_Dakota/New_Salem:20260314T233000
DTSTAMP:20260421T193806
CREATED:20260204T201746Z
LAST-MODIFIED:20260313T154957Z
UID:33420-1773489600-1773531000@unitedgamesinc.com
SUMMARY:Milbank Thursday League End of Season Dart Tournament March 14
DESCRIPTION:must have 4 weeks played in this league to participate in end of season tournament\n 
URL:https://unitedgamesinc.com/event/milbank-thursday-league-end-of-season-dart-tournament-march-14/
LOCATION:SD
CATEGORIES:Dart Tournaments,Darts
END:VEVENT
BEGIN:VEVENT
DTSTART;TZID=America/North_Dakota/New_Salem:20260314T123000
DTEND;TZID=America/North_Dakota/New_Salem:20260314T233000
DTSTAMP:20260421T193806
CREATED:20260204T202007Z
LAST-MODIFIED:20260204T202007Z
UID:33422-1773491400-1773531000@unitedgamesinc.com
SUMMARY:Watertown Tuesday Dart League End of Season Tournament March 14
DESCRIPTION:
URL:https://unitedgamesinc.com/event/watertown-tuesday-dart-league-end-of-season-tournament-march-14/
LOCATION:SD
CATEGORIES:Dart Tournaments,Darts
END:VEVENT
END:VCALENDAR