BEGIN:VCALENDAR
VERSION:2.0
PRODID:-//United Games Inc. - ECPv6.15.20//NONSGML v1.0//EN
CALSCALE:GREGORIAN
METHOD:PUBLISH
X-ORIGINAL-URL:https://unitedgamesinc.com
X-WR-CALDESC:Events for United Games Inc.
REFRESH-INTERVAL;VALUE=DURATION:PT1H
X-Robots-Tag:noindex
X-PUBLISHED-TTL:PT1H
BEGIN:VTIMEZONE
TZID:America/North_Dakota/New_Salem
BEGIN:DAYLIGHT
TZOFFSETFROM:-0600
TZOFFSETTO:-0500
TZNAME:CDT
DTSTART:20240310T080000
END:DAYLIGHT
BEGIN:STANDARD
TZOFFSETFROM:-0500
TZOFFSETTO:-0600
TZNAME:CST
DTSTART:20241103T070000
END:STANDARD
BEGIN:DAYLIGHT
TZOFFSETFROM:-0600
TZOFFSETTO:-0500
TZNAME:CDT
DTSTART:20250309T080000
END:DAYLIGHT
BEGIN:STANDARD
TZOFFSETFROM:-0500
TZOFFSETTO:-0600
TZNAME:CST
DTSTART:20251102T070000
END:STANDARD
BEGIN:DAYLIGHT
TZOFFSETFROM:-0600
TZOFFSETTO:-0500
TZNAME:CDT
DTSTART:20260308T080000
END:DAYLIGHT
BEGIN:STANDARD
TZOFFSETFROM:-0500
TZOFFSETTO:-0600
TZNAME:CST
DTSTART:20261101T070000
END:STANDARD
END:VTIMEZONE
BEGIN:VEVENT
DTSTART;VALUE=DATE:20251003
DTEND;VALUE=DATE:20251006
DTSTAMP:20260422T004749
CREATED:20250623T205337Z
LAST-MODIFIED:20250729T195609Z
UID:31079-1759449600-1759708799@unitedgamesinc.com
SUMMARY:2025 SD State Pink Ladies Dart Tournament
DESCRIPTION:Sign up deadline Friday August 29\,2025.\nqualifying games period is October 14\, 2024-September 2 2025\n6 weeks AND a minimum of 30 games played in a Pink Ladies league only needed to qualify for this tournament\nThe sign ups will be picked up on Friday August 29th by 4pm! 
URL:https://unitedgamesinc.com/event/2025-sd-state-pink-ladies-dart-tournament/
LOCATION:Dakotah Bank Center\, 824 32nd Ave\, Brookings\, 57006\, United States
CATEGORIES:Dart Tournaments,Darts,Pink Ladies
END:VEVENT
BEGIN:VEVENT
DTSTART;TZID=America/North_Dakota/New_Salem:20250906T120000
DTEND;TZID=America/North_Dakota/New_Salem:20250906T210000
DTSTAMP:20260422T004749
CREATED:20250422T203624Z
LAST-MODIFIED:20250604T185056Z
UID:30877-1757160000-1757192400@unitedgamesinc.com
SUMMARY:Wtn Pink Ladies Cow Pie bingo and bean bags tournament The Rooster
DESCRIPTION:SAVE THE DATE\nWATERTOWN PINK LADIES COW PIE BINGO AND BEAN BAG TOURNAMENT  \n 
URL:https://unitedgamesinc.com/event/wtn-pink-ladies-cow-pie-bingo-and-bean-bags-tournament/
LOCATION:The Rooster Bar\, 5676 9th Ave SW #5640\, Watertown\, SD\, 57201\, United States
CATEGORIES:Dart Tournaments,Darts,Pink Ladies
END:VEVENT
BEGIN:VEVENT
DTSTART;TZID=America/North_Dakota/New_Salem:20250829T080000
DTEND;TZID=America/North_Dakota/New_Salem:20250829T170000
DTSTAMP:20260422T004749
CREATED:20250623T210024Z
LAST-MODIFIED:20250729T194057Z
UID:31087-1756454400-1756486800@unitedgamesinc.com
SUMMARY:SIGN UP DEADLINE---SD STATE PINK DART TOURNAMENT 2025
DESCRIPTION: 6 weeks AND a minimum of 30 games played in a Pink Ladies league only needed to qualify for this tournament\nThe sign ups will be picked up on Friday August 29th by 4pm! 
URL:https://unitedgamesinc.com/event/sign-up-deadline-sd-state-pink-dart-tournament-2025/
LOCATION:SD
CATEGORIES:Dart Tournaments,Darts,Pink Ladies
END:VEVENT
BEGIN:VEVENT
DTSTART;VALUE=DATE:20250410
DTEND;VALUE=DATE:20250417
DTSTAMP:20260422T004749
CREATED:20241030T202434Z
LAST-MODIFIED:20241206T222427Z
UID:28432-1744243200-1744847999@unitedgamesinc.com
SUMMARY:Team Dart 2025
DESCRIPTION:Team Dart 2025 April 10-16 2025\nWestgate Las Vegas Resort & Casino 3000 Paradise Road\, Las Vegas\, Nevada \n\nBe at least 18 years of age and comply with regulations of local\, state\, and federal laws in which they compete in leagues. Prize vouchers may only be cashed on-site for those 21 years of age.\nBe sanctioned by the NDA for the 2024-2025 Membership Year and play in leagues ran by an NDA Charter Holder in good standing and in compliance with all league– sanctioning guidelines.  (Only league systems that have every player sanctioned are considered sanctioned leagues.)  Compete during regular league play on qualified machines owned and operated by an NDA charter.\nHave played a minimum of 96 league games between March 1\, 2024 to February 14\, 2025.  Qualifying games must be obtained in no less than eight (8) separate weeks of league play. [League games can consist of ‘01 and/or Cricket with a minimum of 24 games in the format the player is entering (‘01 or Cricket)]\n\nAll events details and registration forms can be found on NDAdarts.com under Events\, TEAM DART \nEntries and $ must be paid in full to Rachel in the Watertown office by Monday February 3rd 2025 
URL:https://unitedgamesinc.com/event/team-dart-2025/
LOCATION:Westate Las Vegas Resort & Casino\, 3000 Paradise Road\, Las Vegas\, NV\, 89109\, United States
CATEGORIES:Dart Tournaments,Darts
END:VEVENT
BEGIN:VEVENT
DTSTART;TZID=America/North_Dakota/New_Salem:20250405T120000
DTEND;TZID=America/North_Dakota/New_Salem:20250405T233000
DTSTAMP:20260422T004749
CREATED:20241209T232747Z
LAST-MODIFIED:20250226T000242Z
UID:29195-1743854400-1743895800@unitedgamesinc.com
SUMMARY:Watertown Pink Ladies Dart Tournament
DESCRIPTION:
URL:https://unitedgamesinc.com/event/watertown-pink-ladies-dart-tournament-2/
LOCATION:Shooter’s Bar\, 6 N Maple\, Watertown\, SD\, 57201\, United States
CATEGORIES:Dart Tournaments,Darts
END:VEVENT
BEGIN:VEVENT
DTSTART;TZID=America/North_Dakota/New_Salem:20250405T113000
DTEND;TZID=America/North_Dakota/New_Salem:20250405T233000
DTSTAMP:20260422T004749
CREATED:20250119T210423Z
LAST-MODIFIED:20250119T210423Z
UID:29624-1743852600-1743895800@unitedgamesinc.com
SUMMARY:Gunslingers Cancer Walk Fundraiser Dart Tournament
DESCRIPTION:
URL:https://unitedgamesinc.com/event/gunslingers-cancer-walk-fundraiser-dart-tournament/
LOCATION:Gunslingers Bar\, 203 Twin Brooks Road\, Twin Brooks\, SD\, 57269\, United States
CATEGORIES:Dart Tournaments,Darts
END:VEVENT
BEGIN:VEVENT
DTSTART;VALUE=DATE:20250329
DTEND;VALUE=DATE:20250330
DTSTAMP:20260422T004749
CREATED:20241114T222622Z
LAST-MODIFIED:20250217T212421Z
UID:28763-1743206400-1743292799@unitedgamesinc.com
SUMMARY:Watertown Wednesday End of Season Dart Tournaments
DESCRIPTION:Players must have 4 Nights of League played in the Wednesday league ONLY to participate
URL:https://unitedgamesinc.com/event/watertown-wednesday-end-of-season-dart-tournaments/
LOCATION:SD
CATEGORIES:Dart Tournaments,Darts
END:VEVENT
BEGIN:VEVENT
DTSTART;VALUE=DATE:20250322
DTEND;VALUE=DATE:20250323
DTSTAMP:20260422T004749
CREATED:20250118T203620Z
LAST-MODIFIED:20250118T203620Z
UID:29600-1742601600-1742687999@unitedgamesinc.com
SUMMARY:Milbank Thursday End of Season Dart Tournament
DESCRIPTION:
URL:https://unitedgamesinc.com/event/milbank-thursday-end-of-season-dart-tournament/
LOCATION:SD
CATEGORIES:Dart Tournaments,Darts
END:VEVENT
BEGIN:VEVENT
DTSTART;VALUE=DATE:20250322
DTEND;VALUE=DATE:20250323
DTSTAMP:20260422T004749
CREATED:20241114T222334Z
LAST-MODIFIED:20250217T203925Z
UID:28759-1742601600-1742687999@unitedgamesinc.com
SUMMARY:Watertown Tuesday End of Season Dart Tournaments
DESCRIPTION:Players must have 4 weeks of League played in the TUESDAY night \nLeague ONLY to participate
URL:https://unitedgamesinc.com/event/watertown-tuesday-end-of-season-dart-tournaments/
LOCATION:SD
CATEGORIES:Dart Tournaments,Darts
END:VEVENT
BEGIN:VEVENT
DTSTART;TZID=America/North_Dakota/New_Salem:20250321T180000
DTEND;TZID=America/North_Dakota/New_Salem:20250321T233000
DTSTAMP:20260422T004749
CREATED:20250217T204311Z
LAST-MODIFIED:20250217T204311Z
UID:30023-1742580000-1742599800@unitedgamesinc.com
SUMMARY:Watertown American Legion Dart Tournament
DESCRIPTION:
URL:https://unitedgamesinc.com/event/watertown-american-legion-dart-tournament-2/
LOCATION:Watertown American Legion Codington County Post 17\, 1412 9th Ave SW #5091\, Watertown\, SD\, 57201\, United States
CATEGORIES:Dart Tournaments,Darts
END:VEVENT
BEGIN:VEVENT
DTSTART;VALUE=DATE:20250321
DTEND;VALUE=DATE:20250322
DTSTAMP:20260422T004749
CREATED:20250214T182446Z
LAST-MODIFIED:20250310T144336Z
UID:30001-1742515200-1742601599@unitedgamesinc.com
SUMMARY:Sign up Deadline; Pump 2.0 Spring League
DESCRIPTION:
URL:https://unitedgamesinc.com/event/pump-2-0-spring-league-sign-up-deadline/
LOCATION:The Pump 2.0\, 205 S Main St\, Milbank\, SD\, 57252\, United States
CATEGORIES:Dart Tournaments,Darts
END:VEVENT
BEGIN:VEVENT
DTSTART;TZID=America/North_Dakota/New_Salem:20250319T193000
DTEND;TZID=America/North_Dakota/New_Salem:20250319T200000
DTSTAMP:20260422T004749
CREATED:20250214T183031Z
LAST-MODIFIED:20250214T183031Z
UID:30005-1742412600-1742414400@unitedgamesinc.com
SUMMARY:Wtn Spring 501 Doubles League MEETING & Sign up Deadline
DESCRIPTION:
URL:https://unitedgamesinc.com/event/wtn-spring-501-doubles-league-meeting-sign-up-deadline/
LOCATION:Shooter’s Bar\, Watertown SD\, 6 N Maple\, Watertown\, SD\, 57201\, United States
CATEGORIES:Dart Tournaments,Darts
END:VEVENT
BEGIN:VEVENT
DTSTART;TZID=America/North_Dakota/New_Salem:20250318T193000
DTEND;TZID=America/North_Dakota/New_Salem:20250318T200000
DTSTAMP:20260422T004749
CREATED:20250214T182845Z
LAST-MODIFIED:20250214T182845Z
UID:30003-1742326200-1742328000@unitedgamesinc.com
SUMMARY:Wtn Spring Cricket Doubles League MEETING & Sign up Deadline
DESCRIPTION:
URL:https://unitedgamesinc.com/event/wtn-spring-cricket-doubles-league-meeting-sign-up-deadline/
LOCATION:Woody’s Bar\, 1612 9th Ave SW\, Watertown\, SD\, 57201\, United States
CATEGORIES:Dart Tournaments,Darts
END:VEVENT
BEGIN:VEVENT
DTSTART;TZID=America/North_Dakota/New_Salem:20250315T120000
DTEND;TZID=America/North_Dakota/New_Salem:20250315T233000
DTSTAMP:20260422T004749
CREATED:20250220T223614Z
LAST-MODIFIED:20250220T223614Z
UID:30070-1742040000-1742081400@unitedgamesinc.com
SUMMARY:Pump 2.0 Dart Tournament
DESCRIPTION:
URL:https://unitedgamesinc.com/event/pump-2-0-dart-tournament/
LOCATION:The Pump 2.0\, 205 S Main St\, Milbank\, SD\, 57252\, United States
CATEGORIES:Dart Tournaments,Darts
END:VEVENT
BEGIN:VEVENT
DTSTART;TZID=America/North_Dakota/New_Salem:20250308T180000
DTEND;TZID=America/North_Dakota/New_Salem:20250308T233000
DTSTAMP:20260422T004749
CREATED:20250113T171248Z
LAST-MODIFIED:20250113T171248Z
UID:29491-1741456800-1741476600@unitedgamesinc.com
SUMMARY:Milbank Pink Ladies Casino Night March 8 2025
DESCRIPTION:
URL:https://unitedgamesinc.com/event/milbank-pink-ladies-casino-night-march-8-2025/
LOCATION:Speedway Event Center\, 210 S 3rd St\, Milbank\, SD\, 57252\, United States
CATEGORIES:Dart Tournaments,Pink Ladies
END:VEVENT
BEGIN:VEVENT
DTSTART;TZID=America/North_Dakota/New_Salem:20250308T140000
DTEND;TZID=America/North_Dakota/New_Salem:20250308T233000
DTSTAMP:20260422T004749
CREATED:20241209T230203Z
LAST-MODIFIED:20241209T230203Z
UID:29182-1741442400-1741476600@unitedgamesinc.com
SUMMARY:Woody's Bar Dart Tournament
DESCRIPTION:
URL:https://unitedgamesinc.com/event/woodys-bar-dart-tournament-2/
LOCATION:Woody’s Bar\, 1612 9th Ave SW\, Watertown\, SD\, 57201\, United States
CATEGORIES:Dart Tournaments,Darts
END:VEVENT
BEGIN:VEVENT
DTSTART;TZID=America/North_Dakota/New_Salem:20250308T113000
DTEND;TZID=America/North_Dakota/New_Salem:20250308T233000
DTSTAMP:20260422T004749
CREATED:20250214T175044Z
LAST-MODIFIED:20250214T175044Z
UID:29995-1741433400-1741476600@unitedgamesinc.com
SUMMARY:Castlewood League End of Season Tournament
DESCRIPTION:
URL:https://unitedgamesinc.com/event/castlewood-league-end-of-season-tournament/
LOCATION:Ship’s Inn Bar & Grill\, 105 Main St\, Castlewood\, SD\, 57223\, United States
CATEGORIES:Dart Tournaments,Darts
END:VEVENT
BEGIN:VEVENT
DTSTART;TZID=America/North_Dakota/New_Salem:20250307T193000
DTEND;TZID=America/North_Dakota/New_Salem:20250307T233000
DTSTAMP:20260422T004749
CREATED:20241114T214743Z
LAST-MODIFIED:20241114T215005Z
UID:28752-1741375800-1741390200@unitedgamesinc.com
SUMMARY:Renegades Monthly Dart Tournaments Mar 7 (final tournament night)
DESCRIPTION:First Friday of each month  \nSign up 7:30pm  \nStart 8 pm
URL:https://unitedgamesinc.com/event/renegades-monthly-dart-tournaments-mar-7-final-night/
LOCATION:Renegades Saloon\, 116 Main Ave\, Hayti\, SD\, 57241\, United States
CATEGORIES:Dart Tournaments,Darts
END:VEVENT
BEGIN:VEVENT
DTSTART;TZID=America/North_Dakota/New_Salem:20250307T180000
DTEND;TZID=America/North_Dakota/New_Salem:20250307T233000
DTSTAMP:20260422T004749
CREATED:20241209T230043Z
LAST-MODIFIED:20241209T230043Z
UID:29180-1741370400-1741390200@unitedgamesinc.com
SUMMARY:Woody's Bar Dart Tournament
DESCRIPTION:
URL:https://unitedgamesinc.com/event/woodys-bar-dart-tournament/
LOCATION:Woody’s Bar\, 1612 9th Ave SW\, Watertown\, SD\, 57201\, United States
CATEGORIES:Dart Tournaments,Darts
END:VEVENT
BEGIN:VEVENT
DTSTART;TZID=America/North_Dakota/New_Salem:20250227T190000
DTEND;TZID=America/North_Dakota/New_Salem:20250227T200000
DTSTAMP:20260422T004749
CREATED:20250214T175541Z
LAST-MODIFIED:20250214T175541Z
UID:29997-1740682800-1740686400@unitedgamesinc.com
SUMMARY:Ship's Inn Spring Doubles Dart League Meeting
DESCRIPTION:
URL:https://unitedgamesinc.com/event/ships-inn-spring-doubles-dart-league-meeting/
LOCATION:Ship’s Inn Bar & Grill\, 105 Main St\, Castlewood\, SD\, 57223\, United States
CATEGORIES:Dart Tournaments,Darts
END:VEVENT
BEGIN:VEVENT
DTSTART;VALUE=DATE:20250225
DTEND;VALUE=DATE:20250303
DTSTAMP:20260422T004749
CREATED:20240722T200005Z
LAST-MODIFIED:20240928T180617Z
UID:26718-1740441600-1740959999@unitedgamesinc.com
SUMMARY:SD State Darts 2025
DESCRIPTION:Sign up Deadline December 13th\nONLINE ONLY sign ups\, link will be posted in November\nQualifying Games Dates: March 1\, 2024—December 13\, 2024 \n6 weeks and no less than 30 games needed to qualify
URL:https://unitedgamesinc.com/event/sd-state-darts-2025/
LOCATION:Ramkota Hotel\, 3200 W Maple St\, Sioux Falls\, SD\, 57107\, United States
CATEGORIES:Dart Tournaments
END:VEVENT
BEGIN:VEVENT
DTSTART;TZID=America/North_Dakota/New_Salem:20250215T120000
DTEND;TZID=America/North_Dakota/New_Salem:20250215T233000
DTSTAMP:20260422T004749
CREATED:20250120T213712Z
LAST-MODIFIED:20250120T213712Z
UID:29664-1739620800-1739662200@unitedgamesinc.com
SUMMARY:Watertown American Legion Dart Tournament
DESCRIPTION:
URL:https://unitedgamesinc.com/event/watertown-american-legion-dart-tournament/
LOCATION:Watertown American Legion Codington County Post 17\, 1412 9th Ave SW #5091\, Watertown\, SD\, 57201\, United States
CATEGORIES:Dart Tournaments,Darts
END:VEVENT
BEGIN:VEVENT
DTSTART;TZID=America/North_Dakota/New_Salem:20250214T180000
DTEND;TZID=America/North_Dakota/New_Salem:20250214T233000
DTSTAMP:20260422T004749
CREATED:20250120T213500Z
LAST-MODIFIED:20250120T213535Z
UID:29661-1739556000-1739575800@unitedgamesinc.com
SUMMARY:Watertown American Legion Dart Tournament
DESCRIPTION:
URL:https://unitedgamesinc.com/event/american-legion-dart-tournament/
LOCATION:Watertown American Legion Codington County Post 17\, 1412 9th Ave SW #5091\, Watertown\, SD\, 57201\, United States
CATEGORIES:Dart Tournaments,Darts
END:VEVENT
BEGIN:VEVENT
DTSTART;TZID=America/North_Dakota/New_Salem:20250208T130000
DTEND;TZID=America/North_Dakota/New_Salem:20250208T233000
DTSTAMP:20260422T004749
CREATED:20241209T231154Z
LAST-MODIFIED:20241209T231154Z
UID:29184-1739019600-1739057400@unitedgamesinc.com
SUMMARY:Woody's Bar Dart Tournament
DESCRIPTION:
URL:https://unitedgamesinc.com/event/woodys-bar-dart-tournament-3/
LOCATION:Woody’s Bar\, 1612 9th Ave SW\, Watertown\, SD\, 57201\, United States
CATEGORIES:Dart Tournaments,Darts
END:VEVENT
BEGIN:VEVENT
DTSTART;TZID=America/North_Dakota/New_Salem:20250207T193000
DTEND;TZID=America/North_Dakota/New_Salem:20250207T233000
DTSTAMP:20260422T004749
CREATED:20241114T214418Z
LAST-MODIFIED:20241114T214418Z
UID:28749-1738956600-1738971000@unitedgamesinc.com
SUMMARY:Renegades Monthly Dart Tournaments Feb 7
DESCRIPTION:First Friday of each month  \nSign up 7:30pm  \nStart 8 pm
URL:https://unitedgamesinc.com/event/renegades-monthly-dart-tournaments-feb-7/
LOCATION:Renegades Saloon\, 116 Main Ave\, Hayti\, SD\, 57241\, United States
CATEGORIES:Dart Tournaments,Darts
END:VEVENT
BEGIN:VEVENT
DTSTART;VALUE=DATE:20250119
DTEND;VALUE=DATE:20250120
DTSTAMP:20260422T004749
CREATED:20240724T194133Z
LAST-MODIFIED:20240928T181006Z
UID:26808-1737244800-1737331199@unitedgamesinc.com
SUMMARY:Tri-Company 2025 day 3
DESCRIPTION:Sign up Deadline December 13th\nONLINE ONLY sign ups\, link will be posted November 1 \n5 weeks of league play needed to qualify \nQualifying Games Dates: March 1\, 2024-December 13th 2024 \nI will post flyer and sign ups for your reference when ready.
URL:https://unitedgamesinc.com/event/tri-company-2025-day-3/
LOCATION:Dakotah Bank Center\, 824 32nd Ave\, Brookings\, 57006\, United States
CATEGORIES:Dart Tournaments
END:VEVENT
BEGIN:VEVENT
DTSTART;VALUE=DATE:20250118
DTEND;VALUE=DATE:20250119
DTSTAMP:20260422T004749
CREATED:20240724T193938Z
LAST-MODIFIED:20240928T181114Z
UID:26806-1737158400-1737244799@unitedgamesinc.com
SUMMARY:Tri-Company 2025 day 2
DESCRIPTION:Sign up Deadline December 13th\nONLINE ONLY sign ups\, link will be posted November 1 \n5 weeks of league play needed to qualify \nQualifying Games Dates: March 1\, 2024-December 13th 2024 \nI will post flyer and sign ups for your reference when ready.
URL:https://unitedgamesinc.com/event/tri-company-2025-day-2/
LOCATION:Dakotah Bank Center\, 824 32nd Ave\, Brookings\, 57006\, United States
CATEGORIES:Dart Tournaments
END:VEVENT
BEGIN:VEVENT
DTSTART;VALUE=DATE:20250117
DTEND;VALUE=DATE:20250118
DTSTAMP:20260422T004749
CREATED:20240722T194725Z
LAST-MODIFIED:20240928T181142Z
UID:26715-1737072000-1737158399@unitedgamesinc.com
SUMMARY:Tri-Company 2025
DESCRIPTION:Sign up Deadline December 13th\nONLINE ONLY sign ups\, link will be posted November 1 \n5 weeks of league play needed to qualify \nQualifying Games Dates: March 1\, 2024-December 13th 2024 \nI will post flyer and sign ups for your reference when ready.
URL:https://unitedgamesinc.com/event/tri-compay-2025/
LOCATION:Dakotah Bank Center\, 824 32nd Ave\, Brookings\, 57006\, United States
CATEGORIES:Dart Tournaments
END:VEVENT
BEGIN:VEVENT
DTSTART;TZID=America/North_Dakota/New_Salem:20250111T100000
DTEND;TZID=America/North_Dakota/New_Salem:20250111T233000
DTSTAMP:20260422T004749
CREATED:20241219T215936Z
LAST-MODIFIED:20241219T215936Z
UID:29291-1736589600-1736638200@unitedgamesinc.com
SUMMARY:Shooter's Bar Shootout
DESCRIPTION:Screenshot
URL:https://unitedgamesinc.com/event/shooters-bar-shootout/
LOCATION:Shooter’s Bar\, 6 N Maple\, Watertown\, SD\, 57201\, United States
CATEGORIES:Dart Tournaments,Darts
END:VEVENT
BEGIN:VEVENT
DTSTART;TZID=America/North_Dakota/New_Salem:20250103T193000
DTEND;TZID=America/North_Dakota/New_Salem:20250103T233000
DTSTAMP:20260422T004749
CREATED:20241114T212530Z
LAST-MODIFIED:20241114T212530Z
UID:28746-1735932600-1735947000@unitedgamesinc.com
SUMMARY:Renegades Monthly Dart Tournaments Jan 3
DESCRIPTION:First Friday of each month  \nSign up 7:30pm  \nStart 8 pm
URL:https://unitedgamesinc.com/event/renegades-monthly-dart-tournaments-jan-3/
LOCATION:Renegades Saloon\, 116 Main Ave\, Hayti\, SD\, 57241\, United States
CATEGORIES:Dart Tournaments,Darts
END:VEVENT
END:VCALENDAR