BEGIN:VCALENDAR
VERSION:2.0
PRODID:-//United Games Inc. - ECPv6.15.20//NONSGML v1.0//EN
CALSCALE:GREGORIAN
METHOD:PUBLISH
X-ORIGINAL-URL:https://unitedgamesinc.com
X-WR-CALDESC:Events for United Games Inc.
REFRESH-INTERVAL;VALUE=DURATION:PT1H
X-Robots-Tag:noindex
X-PUBLISHED-TTL:PT1H
BEGIN:VTIMEZONE
TZID:America/North_Dakota/New_Salem
BEGIN:DAYLIGHT
TZOFFSETFROM:-0600
TZOFFSETTO:-0500
TZNAME:CDT
DTSTART:20230312T080000
END:DAYLIGHT
BEGIN:STANDARD
TZOFFSETFROM:-0500
TZOFFSETTO:-0600
TZNAME:CST
DTSTART:20231105T070000
END:STANDARD
BEGIN:DAYLIGHT
TZOFFSETFROM:-0600
TZOFFSETTO:-0500
TZNAME:CDT
DTSTART:20240310T080000
END:DAYLIGHT
BEGIN:STANDARD
TZOFFSETFROM:-0500
TZOFFSETTO:-0600
TZNAME:CST
DTSTART:20241103T070000
END:STANDARD
BEGIN:DAYLIGHT
TZOFFSETFROM:-0600
TZOFFSETTO:-0500
TZNAME:CDT
DTSTART:20250309T080000
END:DAYLIGHT
BEGIN:STANDARD
TZOFFSETFROM:-0500
TZOFFSETTO:-0600
TZNAME:CST
DTSTART:20251102T070000
END:STANDARD
BEGIN:DAYLIGHT
TZOFFSETFROM:-0600
TZOFFSETTO:-0500
TZNAME:CDT
DTSTART:20260308T080000
END:DAYLIGHT
BEGIN:STANDARD
TZOFFSETFROM:-0500
TZOFFSETTO:-0600
TZNAME:CST
DTSTART:20261101T070000
END:STANDARD
END:VTIMEZONE
BEGIN:VEVENT
DTSTART;TZID=America/North_Dakota/New_Salem:20250308T113000
DTEND;TZID=America/North_Dakota/New_Salem:20250308T233000
DTSTAMP:20260422T035915
CREATED:20250214T175044Z
LAST-MODIFIED:20250214T175044Z
UID:29995-1741433400-1741476600@unitedgamesinc.com
SUMMARY:Castlewood League End of Season Tournament
DESCRIPTION:
URL:https://unitedgamesinc.com/event/castlewood-league-end-of-season-tournament/
LOCATION:Ship’s Inn Bar & Grill\, 105 Main St\, Castlewood\, SD\, 57223\, United States
CATEGORIES:Dart Tournaments,Darts
END:VEVENT
BEGIN:VEVENT
DTSTART;TZID=America/North_Dakota/New_Salem:20250307T193000
DTEND;TZID=America/North_Dakota/New_Salem:20250307T233000
DTSTAMP:20260422T035915
CREATED:20241114T214743Z
LAST-MODIFIED:20241114T215005Z
UID:28752-1741375800-1741390200@unitedgamesinc.com
SUMMARY:Renegades Monthly Dart Tournaments Mar 7 (final tournament night)
DESCRIPTION:First Friday of each month  \nSign up 7:30pm  \nStart 8 pm
URL:https://unitedgamesinc.com/event/renegades-monthly-dart-tournaments-mar-7-final-night/
LOCATION:Renegades Saloon\, 116 Main Ave\, Hayti\, SD\, 57241\, United States
CATEGORIES:Dart Tournaments,Darts
END:VEVENT
BEGIN:VEVENT
DTSTART;TZID=America/North_Dakota/New_Salem:20250307T180000
DTEND;TZID=America/North_Dakota/New_Salem:20250307T233000
DTSTAMP:20260422T035915
CREATED:20241209T230043Z
LAST-MODIFIED:20241209T230043Z
UID:29180-1741370400-1741390200@unitedgamesinc.com
SUMMARY:Woody's Bar Dart Tournament
DESCRIPTION:
URL:https://unitedgamesinc.com/event/woodys-bar-dart-tournament/
LOCATION:Woody’s Bar\, 1612 9th Ave SW\, Watertown\, SD\, 57201\, United States
CATEGORIES:Dart Tournaments,Darts
END:VEVENT
BEGIN:VEVENT
DTSTART;TZID=America/North_Dakota/New_Salem:20250227T190000
DTEND;TZID=America/North_Dakota/New_Salem:20250227T200000
DTSTAMP:20260422T035915
CREATED:20250214T175541Z
LAST-MODIFIED:20250214T175541Z
UID:29997-1740682800-1740686400@unitedgamesinc.com
SUMMARY:Ship's Inn Spring Doubles Dart League Meeting
DESCRIPTION:
URL:https://unitedgamesinc.com/event/ships-inn-spring-doubles-dart-league-meeting/
LOCATION:Ship’s Inn Bar & Grill\, 105 Main St\, Castlewood\, SD\, 57223\, United States
CATEGORIES:Dart Tournaments,Darts
END:VEVENT
BEGIN:VEVENT
DTSTART;VALUE=DATE:20250225
DTEND;VALUE=DATE:20250303
DTSTAMP:20260422T035915
CREATED:20240722T200005Z
LAST-MODIFIED:20240928T180617Z
UID:26718-1740441600-1740959999@unitedgamesinc.com
SUMMARY:SD State Darts 2025
DESCRIPTION:Sign up Deadline December 13th\nONLINE ONLY sign ups\, link will be posted in November\nQualifying Games Dates: March 1\, 2024—December 13\, 2024 \n6 weeks and no less than 30 games needed to qualify
URL:https://unitedgamesinc.com/event/sd-state-darts-2025/
LOCATION:Ramkota Hotel\, 3200 W Maple St\, Sioux Falls\, SD\, 57107\, United States
CATEGORIES:Dart Tournaments
END:VEVENT
BEGIN:VEVENT
DTSTART;TZID=America/North_Dakota/New_Salem:20250215T120000
DTEND;TZID=America/North_Dakota/New_Salem:20250215T233000
DTSTAMP:20260422T035915
CREATED:20250120T213712Z
LAST-MODIFIED:20250120T213712Z
UID:29664-1739620800-1739662200@unitedgamesinc.com
SUMMARY:Watertown American Legion Dart Tournament
DESCRIPTION:
URL:https://unitedgamesinc.com/event/watertown-american-legion-dart-tournament/
LOCATION:Watertown American Legion Codington County Post 17\, 1412 9th Ave SW #5091\, Watertown\, SD\, 57201\, United States
CATEGORIES:Dart Tournaments,Darts
END:VEVENT
BEGIN:VEVENT
DTSTART;TZID=America/North_Dakota/New_Salem:20250214T180000
DTEND;TZID=America/North_Dakota/New_Salem:20250214T233000
DTSTAMP:20260422T035915
CREATED:20250120T213500Z
LAST-MODIFIED:20250120T213535Z
UID:29661-1739556000-1739575800@unitedgamesinc.com
SUMMARY:Watertown American Legion Dart Tournament
DESCRIPTION:
URL:https://unitedgamesinc.com/event/american-legion-dart-tournament/
LOCATION:Watertown American Legion Codington County Post 17\, 1412 9th Ave SW #5091\, Watertown\, SD\, 57201\, United States
CATEGORIES:Dart Tournaments,Darts
END:VEVENT
BEGIN:VEVENT
DTSTART;TZID=America/North_Dakota/New_Salem:20250208T130000
DTEND;TZID=America/North_Dakota/New_Salem:20250208T233000
DTSTAMP:20260422T035915
CREATED:20241209T231154Z
LAST-MODIFIED:20241209T231154Z
UID:29184-1739019600-1739057400@unitedgamesinc.com
SUMMARY:Woody's Bar Dart Tournament
DESCRIPTION:
URL:https://unitedgamesinc.com/event/woodys-bar-dart-tournament-3/
LOCATION:Woody’s Bar\, 1612 9th Ave SW\, Watertown\, SD\, 57201\, United States
CATEGORIES:Dart Tournaments,Darts
END:VEVENT
BEGIN:VEVENT
DTSTART;TZID=America/North_Dakota/New_Salem:20250207T193000
DTEND;TZID=America/North_Dakota/New_Salem:20250207T233000
DTSTAMP:20260422T035915
CREATED:20241114T214418Z
LAST-MODIFIED:20241114T214418Z
UID:28749-1738956600-1738971000@unitedgamesinc.com
SUMMARY:Renegades Monthly Dart Tournaments Feb 7
DESCRIPTION:First Friday of each month  \nSign up 7:30pm  \nStart 8 pm
URL:https://unitedgamesinc.com/event/renegades-monthly-dart-tournaments-feb-7/
LOCATION:Renegades Saloon\, 116 Main Ave\, Hayti\, SD\, 57241\, United States
CATEGORIES:Dart Tournaments,Darts
END:VEVENT
BEGIN:VEVENT
DTSTART;VALUE=DATE:20250119
DTEND;VALUE=DATE:20250120
DTSTAMP:20260422T035915
CREATED:20240724T194133Z
LAST-MODIFIED:20240928T181006Z
UID:26808-1737244800-1737331199@unitedgamesinc.com
SUMMARY:Tri-Company 2025 day 3
DESCRIPTION:Sign up Deadline December 13th\nONLINE ONLY sign ups\, link will be posted November 1 \n5 weeks of league play needed to qualify \nQualifying Games Dates: March 1\, 2024-December 13th 2024 \nI will post flyer and sign ups for your reference when ready.
URL:https://unitedgamesinc.com/event/tri-company-2025-day-3/
LOCATION:Dakotah Bank Center\, 824 32nd Ave\, Brookings\, 57006\, United States
CATEGORIES:Dart Tournaments
END:VEVENT
BEGIN:VEVENT
DTSTART;VALUE=DATE:20250118
DTEND;VALUE=DATE:20250119
DTSTAMP:20260422T035915
CREATED:20240724T193938Z
LAST-MODIFIED:20240928T181114Z
UID:26806-1737158400-1737244799@unitedgamesinc.com
SUMMARY:Tri-Company 2025 day 2
DESCRIPTION:Sign up Deadline December 13th\nONLINE ONLY sign ups\, link will be posted November 1 \n5 weeks of league play needed to qualify \nQualifying Games Dates: March 1\, 2024-December 13th 2024 \nI will post flyer and sign ups for your reference when ready.
URL:https://unitedgamesinc.com/event/tri-company-2025-day-2/
LOCATION:Dakotah Bank Center\, 824 32nd Ave\, Brookings\, 57006\, United States
CATEGORIES:Dart Tournaments
END:VEVENT
BEGIN:VEVENT
DTSTART;VALUE=DATE:20250117
DTEND;VALUE=DATE:20250118
DTSTAMP:20260422T035915
CREATED:20240722T194725Z
LAST-MODIFIED:20240928T181142Z
UID:26715-1737072000-1737158399@unitedgamesinc.com
SUMMARY:Tri-Company 2025
DESCRIPTION:Sign up Deadline December 13th\nONLINE ONLY sign ups\, link will be posted November 1 \n5 weeks of league play needed to qualify \nQualifying Games Dates: March 1\, 2024-December 13th 2024 \nI will post flyer and sign ups for your reference when ready.
URL:https://unitedgamesinc.com/event/tri-compay-2025/
LOCATION:Dakotah Bank Center\, 824 32nd Ave\, Brookings\, 57006\, United States
CATEGORIES:Dart Tournaments
END:VEVENT
BEGIN:VEVENT
DTSTART;TZID=America/North_Dakota/New_Salem:20250111T100000
DTEND;TZID=America/North_Dakota/New_Salem:20250111T233000
DTSTAMP:20260422T035915
CREATED:20241219T215936Z
LAST-MODIFIED:20241219T215936Z
UID:29291-1736589600-1736638200@unitedgamesinc.com
SUMMARY:Shooter's Bar Shootout
DESCRIPTION:Screenshot
URL:https://unitedgamesinc.com/event/shooters-bar-shootout/
LOCATION:Shooter’s Bar\, 6 N Maple\, Watertown\, SD\, 57201\, United States
CATEGORIES:Dart Tournaments,Darts
END:VEVENT
BEGIN:VEVENT
DTSTART;TZID=America/North_Dakota/New_Salem:20250103T193000
DTEND;TZID=America/North_Dakota/New_Salem:20250103T233000
DTSTAMP:20260422T035915
CREATED:20241114T212530Z
LAST-MODIFIED:20241114T212530Z
UID:28746-1735932600-1735947000@unitedgamesinc.com
SUMMARY:Renegades Monthly Dart Tournaments Jan 3
DESCRIPTION:First Friday of each month  \nSign up 7:30pm  \nStart 8 pm
URL:https://unitedgamesinc.com/event/renegades-monthly-dart-tournaments-jan-3/
LOCATION:Renegades Saloon\, 116 Main Ave\, Hayti\, SD\, 57241\, United States
CATEGORIES:Dart Tournaments,Darts
END:VEVENT
BEGIN:VEVENT
DTSTART;TZID=America/North_Dakota/New_Salem:20250101T120000
DTEND;TZID=America/North_Dakota/New_Salem:20250101T233000
DTSTAMP:20260422T035915
CREATED:20241209T224330Z
LAST-MODIFIED:20241209T224330Z
UID:29173-1735732800-1735774200@unitedgamesinc.com
SUMMARY:Renegades Bar New Year's Eve Dart Tournament
DESCRIPTION:
URL:https://unitedgamesinc.com/event/renegades-bar-new-years-eve-dart-tournament/
LOCATION:Renegades Saloon\, 116 Main Ave\, Hayti\, SD\, 57241\, United States
CATEGORIES:Dart Tournaments,Darts
END:VEVENT
BEGIN:VEVENT
DTSTART;TZID=America/North_Dakota/New_Salem:20241228T130000
DTEND;TZID=America/North_Dakota/New_Salem:20241228T233000
DTSTAMP:20260422T035915
CREATED:20241206T221529Z
LAST-MODIFIED:20241206T221529Z
UID:29110-1735390800-1735428600@unitedgamesinc.com
SUMMARY:Woodys Bar 10th Annual New Year's Dart Tournament
DESCRIPTION:
URL:https://unitedgamesinc.com/event/woodys-bar-10th-annual-new-years-dart-tournament/
LOCATION:Woody’s Bar\, 1612 9th Ave SW\, Watertown\, SD\, 57201\, United States
CATEGORIES:Dart Tournaments
END:VEVENT
BEGIN:VEVENT
DTSTART;TZID=America/North_Dakota/New_Salem:20241227T180000
DTEND;TZID=America/North_Dakota/New_Salem:20241227T233000
DTSTAMP:20260422T035915
CREATED:20241206T222058Z
LAST-MODIFIED:20241206T222058Z
UID:29113-1735322400-1735342200@unitedgamesinc.com
SUMMARY:Watertown American Legion Annual New Year's Tri Tourney Event; Darts\, Pool & Beanbags
DESCRIPTION:Contact the Watertown Legion to sign up \n \n 
URL:https://unitedgamesinc.com/event/watertown-american-legion-annual-new-years-tri-tourney-event-darts-pool-beanbags/
LOCATION:Watertown American Legion Codington County Post 17\, 1412 9th Ave SW #5091\, Watertown\, SD\, 57201\, United States
CATEGORIES:Dart Tournaments
END:VEVENT
BEGIN:VEVENT
DTSTART;TZID=America/North_Dakota/New_Salem:20241207T130000
DTEND;TZID=America/North_Dakota/New_Salem:20241207T233000
DTSTAMP:20260422T035915
CREATED:20241012T151536Z
LAST-MODIFIED:20241012T151536Z
UID:28204-1733576400-1733614200@unitedgamesinc.com
SUMMARY:Woodys Bar Toys 4 Tots Dart Tournament
DESCRIPTION:
URL:https://unitedgamesinc.com/event/woodys-bar-toys-4-tots-dart-tournament/
LOCATION:Woody’s Bar\, 1612 9th Ave SW\, Watertown\, SD\, 57201\, United States
CATEGORIES:Dart Tournaments
END:VEVENT
BEGIN:VEVENT
DTSTART;TZID=America/North_Dakota/New_Salem:20241206T193000
DTEND;TZID=America/North_Dakota/New_Salem:20241206T233000
DTSTAMP:20260422T035915
CREATED:20241114T212329Z
LAST-MODIFIED:20241114T212341Z
UID:28742-1733513400-1733527800@unitedgamesinc.com
SUMMARY:Renegades Monthly Dart Tournaments Dec 6
DESCRIPTION:First Friday of each month  \nSign up 7:30pm  \nStart 8 pm
URL:https://unitedgamesinc.com/event/renegades-monthly-dart-tournaments/
LOCATION:Renegades Saloon\, 116 Main Ave\, Hayti\, SD\, 57241\, United States
CATEGORIES:Dart Tournaments,Darts
END:VEVENT
BEGIN:VEVENT
DTSTART;TZID=America/North_Dakota/New_Salem:20241130T120000
DTEND;TZID=America/North_Dakota/New_Salem:20241130T233000
DTSTAMP:20260422T035915
CREATED:20241114T204313Z
LAST-MODIFIED:20241114T204425Z
UID:28737-1732968000-1733009400@unitedgamesinc.com
SUMMARY:Shady Beach Dart Tournament
DESCRIPTION:Sign up 12pm \nStart 1pm
URL:https://unitedgamesinc.com/event/shady-beach-dart-tournament/
LOCATION:Shady Beach\, 13655 Shady St\, Corona\, SD\, 57227\, United States
CATEGORIES:Dart Tournaments,Darts
END:VEVENT
BEGIN:VEVENT
DTSTART;TZID=America/North_Dakota/New_Salem:20241109T130000
DTEND;TZID=America/North_Dakota/New_Salem:20241109T233000
DTSTAMP:20260422T035915
CREATED:20240904T173646Z
LAST-MODIFIED:20240904T173646Z
UID:27331-1731157200-1731195000@unitedgamesinc.com
SUMMARY:Dart Tournament Pouring for Pink
DESCRIPTION:
URL:https://unitedgamesinc.com/event/dart-tournament-pouring-for-pink/
LOCATION:Cloud 9 Bar and Grill\, 625 20th Ave SE\, Watertown\, SD\, 57201\, United States
CATEGORIES:Dart Tournaments
END:VEVENT
BEGIN:VEVENT
DTSTART;TZID=America/North_Dakota/New_Salem:20241102T140000
DTEND;TZID=America/North_Dakota/New_Salem:20241102T233000
DTSTAMP:20260422T035915
CREATED:20240928T175755Z
LAST-MODIFIED:20240928T175755Z
UID:28069-1730556000-1730590200@unitedgamesinc.com
SUMMARY:Woody's Dart Tournament
DESCRIPTION:
URL:https://unitedgamesinc.com/event/woodys-dart-tournament/
LOCATION:Woody’s Bar\, 1612 9th Ave SW\, Watertown\, SD\, 57201\, United States
CATEGORIES:Dart Tournaments
END:VEVENT
BEGIN:VEVENT
DTSTART;VALUE=DATE:20241101
DTEND;VALUE=DATE:20241104
DTSTAMP:20260422T035915
CREATED:20240809T212008Z
LAST-MODIFIED:20240926T201555Z
UID:26971-1730419200-1730678399@unitedgamesinc.com
SUMMARY:Regional Dart Tournament November 2024 Indiana
DESCRIPTION:Sign up Deadline with tournament fees paid to Rachel by September 27 2024 at our office 624 7th St SE Watertown SD
URL:https://unitedgamesinc.com/event/regional-dart-tournament-november-2024-indiana/
LOCATION:Hilton Fort Wayne at the Grand Wayne Convention Center\, 1020 S Calhoun St\, Fort Wayne\, IN\, 46802\, United States
CATEGORIES:Dart Tournaments
END:VEVENT
BEGIN:VEVENT
DTSTART;TZID=America/North_Dakota/New_Salem:20241026T120000
DTEND;TZID=America/North_Dakota/New_Salem:20241026T235900
DTSTAMP:20260422T035915
CREATED:20240807T135436Z
LAST-MODIFIED:20240816T195432Z
UID:26907-1729944000-1729987140@unitedgamesinc.com
SUMMARY:Watertown Pink Ladies Dart Tournament
DESCRIPTION:Men and Women welcome to participate.  Please come show your support these Pink Ladies work hard for these events to support those in need in your local community!  \nSign up at 12pm \nWomen start at 1pm  \nMen start at 2pm 
URL:https://unitedgamesinc.com/event/watertown-pink-ladies-dart-tournament/
LOCATION:Watertown American Legion Codington County Post 17\, 1412 9th Ave SW #5091\, Watertown\, SD\, 57201\, United States
CATEGORIES:Dart Tournaments,Pink Ladies
END:VEVENT
BEGIN:VEVENT
DTSTART;TZID=America/North_Dakota/New_Salem:20241025T180000
DTEND;TZID=America/North_Dakota/New_Salem:20241025T233000
DTSTAMP:20260422T035915
CREATED:20240821T181720Z
LAST-MODIFIED:20240928T175941Z
UID:27199-1729879200-1729899000@unitedgamesinc.com
SUMMARY:Watertown Legion Dart Tournament
DESCRIPTION: 
URL:https://unitedgamesinc.com/event/dart-tournament-watertown-legion/
LOCATION:Watertown American Legion Codington County Post 17\, 1412 9th Ave SW #5091\, Watertown\, SD\, 57201\, United States
CATEGORIES:Dart Tournaments
END:VEVENT
BEGIN:VEVENT
DTSTART;TZID=America/North_Dakota/New_Salem:20241019T130000
DTEND;TZID=America/North_Dakota/New_Salem:20241019T233000
DTSTAMP:20260422T035915
CREATED:20240928T174922Z
LAST-MODIFIED:20241011T175653Z
UID:28066-1729342800-1729380600@unitedgamesinc.com
SUMMARY:Woody's Bar Dart Tournament Fundraiser
DESCRIPTION:
URL:https://unitedgamesinc.com/event/woodys-bar-dart-tournament-fundraiser/
LOCATION:Woody’s Bar\, 1612 9th Ave SW\, Watertown\, SD\, 57201\, United States
CATEGORIES:Dart Tournaments
END:VEVENT
BEGIN:VEVENT
DTSTART;VALUE=DATE:20241018
DTEND;VALUE=DATE:20241021
DTSTAMP:20260422T035915
CREATED:20240809T211401Z
LAST-MODIFIED:20240809T213851Z
UID:26966-1729209600-1729468799@unitedgamesinc.com
SUMMARY:Regional Dart Tournament October 2024 North Dakota
DESCRIPTION:Sign up Deadline with tournament fees paid to Rachel by September 16 2024 at our office 624 7th St SE Watertown SD
URL:https://unitedgamesinc.com/event/regional-dart-tournament-october-2024-north-dakota/
LOCATION:4 Bears Casino and Lodge\, 202 Frontage RD\, New Town\, ND\, 58763\, United States
CATEGORIES:Dart Tournaments
END:VEVENT
BEGIN:VEVENT
DTSTART;TZID=America/North_Dakota/New_Salem:20241012T120000
DTEND;TZID=America/North_Dakota/New_Salem:20241012T235900
DTSTAMP:20260422T035915
CREATED:20240807T134831Z
LAST-MODIFIED:20240816T194757Z
UID:26905-1728734400-1728777540@unitedgamesinc.com
SUMMARY:Milbank Pink Ladies Fundraiser Tournament
DESCRIPTION:Men and Women Welcome to participate! Come show your support these Pink Ladies work hard for these events to help those in their community!  \nEvent Sign up at 12pm  \nTournament starts 1pm
URL:https://unitedgamesinc.com/event/milbank-pink-ladies-fundraiser-tournament/
LOCATION:Milbank VFW\, 205 S 3rd St\, Milbank\, SD\, 57252\, United States
CATEGORIES:Dart Tournaments,Pink Ladies
END:VEVENT
BEGIN:VEVENT
DTSTART;VALUE=DATE:20241006
DTEND;VALUE=DATE:20241007
DTSTAMP:20260422T035915
CREATED:20240723T183701Z
LAST-MODIFIED:20240724T181958Z
UID:26746-1728172800-1728259199@unitedgamesinc.com
SUMMARY:SD State Pink Dart Tournament day 3
DESCRIPTION:
URL:https://unitedgamesinc.com/event/sd-state-pink-dart-tournament-day-3/
LOCATION:Dakotah Bank Center\, 824 32nd Ave\, Brookings\, 57006\, United States
CATEGORIES:Dart Tournaments,Pink Ladies
END:VEVENT
BEGIN:VEVENT
DTSTART;VALUE=DATE:20241005
DTEND;VALUE=DATE:20241006
DTSTAMP:20260422T035915
CREATED:20240723T183628Z
LAST-MODIFIED:20240724T181951Z
UID:26744-1728086400-1728172799@unitedgamesinc.com
SUMMARY:SD State Pink Dart Tournament day 2
DESCRIPTION:
URL:https://unitedgamesinc.com/event/sd-state-pink-dart-tournament-day-2/
LOCATION:Dakotah Bank Center\, 824 32nd Ave\, Brookings\, 57006\, United States
CATEGORIES:Dart Tournaments,Pink Ladies
END:VEVENT
END:VCALENDAR